BEGIN:VCALENDAR
VERSION:2.0
PRODID:-//Manuela Künzel - ECPv6.15.20//NONSGML v1.0//EN
CALSCALE:GREGORIAN
METHOD:PUBLISH
X-WR-CALNAME:Manuela Künzel
X-ORIGINAL-URL:https://manuelakuenzel.de
X-WR-CALDESC:Veranstaltungen für Manuela Künzel
REFRESH-INTERVAL;VALUE=DURATION:PT1H
X-Robots-Tag:noindex
X-PUBLISHED-TTL:PT1H
BEGIN:VTIMEZONE
TZID:Europe/Berlin
BEGIN:DAYLIGHT
TZOFFSETFROM:+0100
TZOFFSETTO:+0200
TZNAME:CEST
DTSTART:20250330T010000
END:DAYLIGHT
BEGIN:STANDARD
TZOFFSETFROM:+0200
TZOFFSETTO:+0100
TZNAME:CET
DTSTART:20251026T010000
END:STANDARD
BEGIN:DAYLIGHT
TZOFFSETFROM:+0100
TZOFFSETTO:+0200
TZNAME:CEST
DTSTART:20260329T010000
END:DAYLIGHT
BEGIN:STANDARD
TZOFFSETFROM:+0200
TZOFFSETTO:+0100
TZNAME:CET
DTSTART:20261025T010000
END:STANDARD
BEGIN:DAYLIGHT
TZOFFSETFROM:+0100
TZOFFSETTO:+0200
TZNAME:CEST
DTSTART:20270328T010000
END:DAYLIGHT
BEGIN:STANDARD
TZOFFSETFROM:+0200
TZOFFSETTO:+0100
TZNAME:CET
DTSTART:20271031T010000
END:STANDARD
END:VTIMEZONE
BEGIN:VEVENT
DTSTART;TZID=Europe/Berlin:20260126T170000
DTEND;TZID=Europe/Berlin:20260126T190000
DTSTAMP:20260424T113700
CREATED:20251112T171716Z
LAST-MODIFIED:20251201T192729Z
UID:4071-1769446800-1769454000@manuelakuenzel.de
SUMMARY:Herzöffnende Kakaozeremonie
DESCRIPTION:Deine KakaozeremonieDeine Kakaozeremonie – Eine Reise zu dir selbst\nIn einer liebevollen\, kleinen Runde lade ich dich ein\, in die Welt des zeremoniellen Kakaos einzutauchen – ein achtsames Ritual\, das Herz\, Körper und Seele verbindet.Gemeinsam schaffen wir einen geschützten Raum\, in dem du loslassen\, dich öffnen und in tiefe Verbindung mit dir selbst treten darfst. \nAblauf der Zeremonie\nWir beginnen mit einer kurzen Einführung über den Ursprung und die Wirkung des Kakaos. Anschließend trinken wir den warmen Kakao in Achtsamkeit\, begleitet von Klangschalen oder sanfter Musik\, heilsamer Stille und ggfs. Impulsen zur Selbstreflexion.Gemeinsam tauchen wir ein in einen Raum achtsamer und liebevoller Präsenz\, Dankbarkeit und Verbundenheit – mit uns selbst und miteinander. \nZum Abschluss nehmen wir uns Zeit für Austausch\, Integration und Nachspüren. \nWas dich erwartetZeremonieller Kakao ist weit mehr als nur ein Getränk – er ist eine sanfte Pflanzenmedizin\, die seit Jahrhunderten in den indigenen Kulturen Mittelamerikas für spirituelle Rituale verwendet wird. Der hochwertige Rohkakao enthält natürliche Stoffe\, die Herz und Geist öffnen\, die Stimmung heben und die innere Klarheit fördern. \nIn dieser Zeremonie wirst du eingeladen\, den Kakao bewusst zu genießen und dich mit deiner Intention zu verbinden. Durch geführte Meditation\, Atemübungen\, Musik oder auch Stille vertieft sich die Erfahrung – du spürst\, wie der Kakao dich auf natürliche Weise in deine Mitte führt. \nLass dich vom Kakao sanft in dein Herz führen und erlebe eine tiefe\, nährende Verbindung zu dir selbst und dem Leben. \n(Die Zeremonie findet in einer kleinen Gruppe von max. 5 Personen statt – damit Raum für Nähe\, Stille und echte Begegnung entstehen kann.) \nDie wunderbare Wirkung von KakaoDie Wirkungen von zeremoniellem Kakao sind sehr vielseitig und tiefgreifend.\nKakao kann dich auf vielen Ebenen unterstützen:\n\ner öffnet das Herz und fördert die liebevolle Verbindung zu dir selbst und Anderen\ner unterstützt die emotionale Heilung und innere Klarheit\ner wirkt stimmungsaufhellend und entspannend\ner stärkt Kreativität\, Präsenz und Lebensfreude\nstärkt deine Verbindung zur Natur und zu deinem Inneren\n\n\nDu hast Fragen zum Ablauf oder Inhalt der Zeremonie? Dann melde dich von Herzen gern bei mir!
URL:https://manuelakuenzel.de/event/herzoeffnende-kakaozeremonie/
LOCATION:Manuela Künzel Coaching\, Leibnizstr. 28\, Leipzig\, Sachsen\, 04105\, Germany
CATEGORIES:Seminare
ATTACH;FMTTYPE=image/jpeg:https://manuelakuenzel.de/wp-content/uploads/Kakaozeremonie.jpg
ORGANIZER;CN="Manuela K%C3%BCnzel":MAILTO:info@manuelakuenzel.de
END:VEVENT
END:VCALENDAR