BEGIN:VCALENDAR
VERSION:2.0
PRODID:-//Manuela Künzel - ECPv6.15.20//NONSGML v1.0//EN
CALSCALE:GREGORIAN
METHOD:PUBLISH
X-ORIGINAL-URL:https://manuelakuenzel.de
X-WR-CALDESC:Veranstaltungen für Manuela Künzel
REFRESH-INTERVAL;VALUE=DURATION:PT1H
X-Robots-Tag:noindex
X-PUBLISHED-TTL:PT1H
BEGIN:VTIMEZONE
TZID:Europe/Berlin
BEGIN:DAYLIGHT
TZOFFSETFROM:+0100
TZOFFSETTO:+0200
TZNAME:CEST
DTSTART:20250330T010000
END:DAYLIGHT
BEGIN:STANDARD
TZOFFSETFROM:+0200
TZOFFSETTO:+0100
TZNAME:CET
DTSTART:20251026T010000
END:STANDARD
BEGIN:DAYLIGHT
TZOFFSETFROM:+0100
TZOFFSETTO:+0200
TZNAME:CEST
DTSTART:20260329T010000
END:DAYLIGHT
BEGIN:STANDARD
TZOFFSETFROM:+0200
TZOFFSETTO:+0100
TZNAME:CET
DTSTART:20261025T010000
END:STANDARD
BEGIN:DAYLIGHT
TZOFFSETFROM:+0100
TZOFFSETTO:+0200
TZNAME:CEST
DTSTART:20270328T010000
END:DAYLIGHT
BEGIN:STANDARD
TZOFFSETFROM:+0200
TZOFFSETTO:+0100
TZNAME:CET
DTSTART:20271031T010000
END:STANDARD
END:VTIMEZONE
BEGIN:VEVENT
DTSTART;TZID=Europe/Berlin:20260506T143000
DTEND;TZID=Europe/Berlin:20260701T160000
DTSTAMP:20260424T055055
CREATED:20221122T151014Z
LAST-MODIFIED:20260422T150338Z
UID:3546-1778077800-1782921600@manuelakuenzel.de
SUMMARY:Dein Selbstfürsorge Programm
DESCRIPTION:  \n \nDein Selbstfürsorge Programm – Zeit für Körper\, Geist und Seele \n\nDu fühlst dich schon länger körperlich und mental erschöpft?\nDu kümmerst dich meist mehr um Andere als um dich?\nDu hast das Gefühl\, immer wieder im gleichen Gedankenkarussell zu landen?\nDu wünschst dir Ideen und Anregungen für deine Entspannung und Regeneration?\nDu möchtest wieder Kraft und Lebensfreude in dir selbst finden und dein Leben aktiv gestalten?\nDu möchtest gern Fähigkeiten und Möglichkeiten für die Stärkung deiner Selbstfürsorge erlernen?\n\nSelbstfürsorge ist die Fähigkeit\, sich selbst und die eigenen Bedürfnisse wahr zu nehmen und daraus eine Lebenshaltung zu entwickeln\, die eigene Grenzen erkennt und respektiert. Es ist die Fähigkeit\, mit sich selbst achtsam und respektvoll umzugehen. \nUnd es kann auch der erste und zugleich wichtigste Schritt in Richtung eines erfüllten und glücklichen Lebens sein. \nWenn du dich in deinem Körper wohlfühlst und einen zuversichtlichen und vertrauensvollen Blick auf dein Leben hast\, dann können dich die vielen „Stürme des Lebens“ nicht mehr so leicht aus der Bahn werfen. \nSelbstfürsorge ist meist für Frauen ein besonderes Thema\, denn Frauen fühlen sich oft nicht wohl in ihrem Körper\, sind überlastet\, erschöpft\, nehmen oft eigene Grenzen nicht gut wahr. \nDer Alltag mit beruflichen und familiären Herausforderungen lässt häufig wenig Raum für die Wahrnehmung der eigenen Wünsche. Und Verantwortung und das Wohl der Anderen steht meist an erster Stelle… \nAber auch andere Bedürfnisse kommen häufig zu kurz- gesunde Ernährung\, Bewegung\, Kreativität\, Selbstbestimmtheit\, Lebensfreude\, Freundschaften\, Spiritualität… \nJe besser du deine Bedürfnisse kennst und sie erfüllen kannst\, desto verbundener mit dir selbst wirst du sein und desto leichter fällt es dir\, mit den Herausforderungen des Lebens umzugehen. \nDas erwartet Dich\nAlles beginnt bei dir und deinem Wunsch nach mehr Selbstfürsorge und Wohlbefinden. \nIn meinem 6-8-wöchigen Programm\, das aus Coachingstunden\, Übungen zur Nervensystemregulation\, einfachen Yogaeinheiten\, Achtsamkeits- und Atemübungen besteht\, lernst du\, deine eigenen Bedürfnisse leichter zu erkennen und zu erfüllen sowie den Kontakt mit dir selbst zu stärken. \nFür mehr Entspannung\, Selbstvertrauen und neue Zuversicht. \n\n6-8 Wochen individuelles Einzelcoaching\, Termine nach Absprache \n\nErstgespräch\, individuelle Situationsanalyse\n10 Coachingstunden\, i.d.R. wöchentlich nach Absprache\nReflexion aktueller Lebenssituation\, Umgang mit Glaubenssystemen\nStärkung deines Selbstwertes und deiner Selbstliebe\nEntspannungsübungen\, Nervensystemregulation\nAtem- und Achtsamkeitsübungen\nYogapraxis (keine Vorkenntnisse nötig)\nKlangmassage\nStrategien für deine Selbstfürsorge\nAbschlussgespräch inkl. Selbstcoachingplan\nEmailbegleitung mit Übungen zur Selbstreflexion\nÜbungen und Aufgaben zur Nachbereitung und Festigung\n\nWas erwartet dich?\n\nErstgespräch zur Analyse und Identifikation deiner aktuellen Situation\nAufspüren deiner eigenen Möglichkeiten für Selbstfürsorge und innere Balance\nWege zu einem gesunden Lebensstil und einem positiven Mindset\nErkennen innerer Blockaden und deiner Lösungswege und neuen Perspektiven\nStärkung deiner Selbstwahrnehmung durch Achtsamkeit & Yoga sowie Atemtraining\nErkennen deiner Ziele und eigenen Bedürfnisse und Wege zu deren Umsetzung\nWege zu mehr Lebensenergie und Freude durch Achtsamkeitstraining\n\nMit meinem Coachingansatz verbinde ich eine ganzheitliche\, den Körper einbeziehende Methode\, denn Körper und Geist stehen immer in engem Zusammenhang. \nÜber das Wahrnehmen des eigenen Körpers\, der eigenen Bedürfnisse und Reaktionen sind tiefe Erkenntnisse und ein neues Erleben möglich. \nSo kannst du oftmals Probleme oder Themen leichter lösen\, indem du die Signale\, die dir dein Körper sendet\, wahrnimmst\, Erkenntnisse gewinnst und somit heilsame Prozesse in Gang kommen können. \nMit Unterstützung hilfreicher Übungen aus den Bereichen Achtsamkeit\, Atmung und Yoga kann sich deine Wahrnehmung und dein Blick auf dich selbst zum Positiven verändern und du wirst deine innere Mitte wiederfinden. \n\n\n\nWas kannst Du erreichen?\nAnalyse persönlicher Themen\, einer akuten Lebenskrise und eigene Lösungsentwicklung\nKlarheit\, Zuversicht und ein gestärktes Selbstvertrauen\nÜberprüfen deiner Arbeits- und Lebenssituation\, Erkennen eigener Grenzen\nWahrnehmen persönlicher und beruflicher Dysbalancen\nStärkung des Selbstbewusstseins und deiner inneren Haltung\nErkennen eigener Energiequellen für einen entspannteren und gesünderen Alltag\nAuszeit zur Regeneration nach intensiven Lebensphasen und Entstressung\nErlernen hilfreicher Entspannungstechniken für deinen Alltag\neinen neuen Blick auf dich selbst
URL:https://manuelakuenzel.de/event/selbstfuersorge-programm/
LOCATION:Manuela Künzel Coaching\, Leibnizstr. 28\, Leipzig\, Sachsen\, 04105\, Germany
CATEGORIES:Einzelcoaching
ATTACH;FMTTYPE=image/jpeg:https://manuelakuenzel.de/wp-content/uploads/Frau-auf-der-Wiese-scaled.jpg
ORGANIZER;CN="Manuela K%C3%BCnzel":MAILTO:info@manuelakuenzel.de
END:VEVENT
BEGIN:VEVENT
DTSTART;TZID=Europe/Berlin:20260507T170000
DTEND;TZID=Europe/Berlin:20260507T190000
DTSTAMP:20260424T055055
CREATED:20260317T141407Z
LAST-MODIFIED:20260317T141407Z
UID:4219-1778173200-1778180400@manuelakuenzel.de
SUMMARY:Herzöffnende Kakaozeremonie
DESCRIPTION:Deine KakaozeremonieDeine Kakaozeremonie – Eine Reise zu dir selbst\nIn einer liebevollen\, kleinen Runde lade ich dich ein\, in die Welt des zeremoniellen Kakaos einzutauchen – ein achtsames Ritual\, das Herz\, Körper und Seele verbindet.Gemeinsam schaffen wir einen geschützten Raum\, in dem du loslassen\, dich öffnen und in tiefe Verbindung mit dir selbst treten darfst. \nAblauf der Zeremonie\nWir beginnen mit einer kurzen Einführung über den Ursprung und die Wirkung des Kakaos. Anschließend trinken wir den warmen Kakao in Achtsamkeit\, begleitet von Klangschalen oder sanfter Musik\, heilsamer Stille und ggfs. Impulsen zur Selbstreflexion.Gemeinsam tauchen wir ein in einen Raum achtsamer und liebevoller Präsenz\, Dankbarkeit und Verbundenheit – mit uns selbst und miteinander. \nZum Abschluss nehmen wir uns Zeit für Austausch\, Integration und Nachspüren. \nWas dich erwartetZeremonieller Kakao ist weit mehr als nur ein Getränk – er ist eine sanfte Pflanzenmedizin\, die seit Jahrhunderten in den indigenen Kulturen Mittelamerikas für spirituelle Rituale verwendet wird. Der hochwertige Rohkakao enthält natürliche Stoffe\, die Herz und Geist öffnen\, die Stimmung heben und die innere Klarheit fördern. \nIn dieser Zeremonie wirst du eingeladen\, den Kakao bewusst zu genießen und dich mit deiner Intention zu verbinden. Durch geführte Meditation\, Atemübungen\, Musik oder auch Stille vertieft sich die Erfahrung – du spürst\, wie der Kakao dich auf natürliche Weise in deine Mitte führt. \nLass dich vom Kakao sanft in dein Herz führen und erlebe eine tiefe\, nährende Verbindung zu dir selbst und dem Leben. \n(Die Zeremonie findet in einer kleinen Gruppe von max. 5 Personen statt – damit Raum für Nähe\, Stille und echte Begegnung entstehen kann.) \nDie wunderbare Wirkung von KakaoDie Wirkungen von zeremoniellem Kakao sind sehr vielseitig und tiefgreifend.\nKakao kann dich auf vielen Ebenen unterstützen:\n\ner öffnet das Herz und fördert die liebevolle Verbindung zu dir selbst und Anderen\ner unterstützt die emotionale Heilung und innere Klarheit\ner wirkt stimmungsaufhellend und entspannend\ner stärkt Kreativität\, Präsenz und Lebensfreude\nstärkt deine Verbindung zur Natur und zu deinem Inneren\n\n\nDu hast Fragen zum Ablauf oder Inhalt der Zeremonie? Dann melde dich von Herzen gern bei mir!
URL:https://manuelakuenzel.de/event/herzoeffnende-kakaozeremonie-3/
LOCATION:Manuela Künzel Coaching\, Leibnizstr. 28\, Leipzig\, Sachsen\, 04105\, Germany
CATEGORIES:Seminare
ATTACH;FMTTYPE=image/jpeg:https://manuelakuenzel.de/wp-content/uploads/Kakaozeremonie.jpg
ORGANIZER;CN="Manuela K%C3%BCnzel":MAILTO:info@manuelakuenzel.de
END:VEVENT
BEGIN:VEVENT
DTSTART;VALUE=DATE:20260508
DTEND;VALUE=DATE:20260511
DTSTAMP:20260424T055055
CREATED:20220529T123151Z
LAST-MODIFIED:20260209T135050Z
UID:3427-1778198400-1778457599@manuelakuenzel.de
SUMMARY:Frauencoaching in der Dübener Heide
DESCRIPTION:Frauencoaching in der Dübener Heide – Zeit für Körper\, Geist und Seele \n\nDu suchst eine Auszeit vom Alltag\, die du ganz bewusst für Selbstreflexion und Veränderung nutzen möchtest?\nDu bist auf der Suche nach neuen Zielen und Perspektiven?\nDu steckst in einer Lebenskrise und hast keine Idee\, wie du allein herausfinden kannst?\nDu liebst die Ruhe und Kraft der Natur und kannst dir vorstellen\, deinen Veränderungsprozess hier zu beginnen?\nDu wünschst dir Ideen und Anregungen für deine Entspannung und Regeneration?\n\nDann gönne dir deine Coaching Auszeit in der Dübener Heide! \nDas erwartet Dich2 – Tage exklusives Einzelcoaching (z.B. Freitag bis Sonntag) \n\nErstgespräch am Ankunftstag\, individuelle Situationsanalyse\ntägliche Coachingstunden in der Natur und im Gärtnerhaus von Schloß Reinharz\nCoachingimpulse in der Natur\nEntspannungsübungen\, Körperwahrnehmung\, Yoga Nidra\nAtem- und Achtsamkeitstraining\nStrategien für deine Selbstfürsorge\nAbschlussgespräch am Abreisetag inkl. Selbstcoachingplan\nÜbungen und Aufgaben zur Nachbereitung und Festigung\ntelefonische „Nachsorge“ per Zoom nach ca. 4 Wochen (30 Min.)\n\nAblaufFreitag \n\nab 15 Uhr\, individuelle Anreise im Resort Schloss Reinharz (komfortable Ferienwohnung\, Einzelzimmer)\n16.00-17.30 Uhr Erstgespräch\n18.30 Uhr Abendessen\n\nSamstag \n\n8.30 Uhr Frühstück\n9.30-11.30 Uhr Coachingstunden\, in der Natur bzw. in meinem Praxisraum\n12.30 Uhr Mittagessen\n14.00 Uhr Achtsamkeitsspaziergang\, Atem-und Bewegungsimpulse\n15.00 Uhr Freiraum bzw. Reflexion\, ggfs. kleine „Hausaufgaben“\n17.00-18.00 Uhr Achtsamkeits- und Entspannungsübungen\, Körperwahrnehmung\nab ca. 18.30 Abendessen\n\nSonntag \n\n8.30 Uhr Frühstück\n9.30-11.00 Uhr Abschlussgespräch und Selbstcoachingplan\n12.00 Uhr individuelle Abreise\n\nDie Zeiten für unser Coaching können individuell angepasst werden. \nLeistungen\nindividuelle Coachingstunden\nEntspannungsimpulse und Atemübungen\nYin Yoga und Yoga Nidra\nAchtsamkeitsspaziergang\n2 x vegetarisches Frühstück\n1 x vegetarisches Mittagessen\n2 x vegetarisches Abendessen\nObst\, kleine Snacks\, Wasser\, Kaffee und Tee stehen jederzeit zur Verfügung\n2x ÜN in komfortabler Ferienwohnung (separat zu buchen\, nicht im Preis enthalten)\nfreie Saunanutzung\n\nWas kannst Du erreichen?\nAnalyse persönlicher Themen\, einer akuten Lebenskrise und eigene Lösungsentwicklung\nKlarheit\, Zuversicht und ein gestärktes Selbstvertrauen\nÜberprüfen deiner Arbeits- und Lebenssituation\, Erkennen eigener Grenzen\nWahrnehmen persönlicher und beruflicher Dysbalancen\nStärkung des Selbstbewusstseins und deiner inneren Haltung\nErkennen eigener Energiequellen für einen entspannteren und gesünderen Alltag\nkleine Auszeit zur Regeneration nach intensiven Lebensphasen und Entstressung\neinen neuen Blick auf dich selbst\nUnterstützung durch Achtsamkeits- und Atemtraining\n\nDeine UnterkunftIdyllisch\, inmitten von ursprünglicher\, wildromantischer Natur liegt das barocke Wasserschloss Reinharz im Herzen der Dübener Heide. Umgeben von einem sechs Hektar großen Schlosspark und einem weitläufigen Waldgebiet befinden sich im romantischen Gärtnerhaus und Fischerhaus des Schlosses denkmalgerecht sanierte Apartments\, die über mehrere Doppelzimmer bzw. ein Einzelzimmer verfügen. \nDie Apartments sind geschmackvoll und hochwertig eingerichtet und verfügen über mehrere Bäder und eigene Saunen\, die flexibel genutzt werden können. \nDie Umgebung des Schlosses lädt mit ihrer wundervollen ursprünglichen Natur zu Waldspaziergängen und kleinen Wanderungen ein. \nPreis€ 690\,- individuelle Coachingstunden\, Impulse und PDF zur Selbstfürsorge und Nachbereitung\, telefonische „Nachsorge“ \n€ 290\,- 2x Übernachtung im Einzelzimmer\, inkl. Vollverpflegung\, Getränke und Snacks\, Saunanutzung \nDein Coach
URL:https://manuelakuenzel.de/event/coaching-in-der-duebener-heide/
LOCATION:Schloss Reinharz\, Reinharz 87\, Bad Schmiedeberg\, 06905\, Germany
CATEGORIES:Einzelcoaching
ATTACH;FMTTYPE=image/jpeg:https://manuelakuenzel.de/wp-content/uploads/Frau-im-Fruehling-scaled.jpg
ORGANIZER;CN="Manuela K%C3%BCnzel":MAILTO:info@manuelakuenzel.de
END:VEVENT
BEGIN:VEVENT
DTSTART;TZID=Europe/Berlin:20260512T170000
DTEND;TZID=Europe/Berlin:20260512T193000
DTSTAMP:20260424T055055
CREATED:20250204T163938Z
LAST-MODIFIED:20260317T141650Z
UID:3899-1778605200-1778614200@manuelakuenzel.de
SUMMARY:Frauenkreis - Zeit in herzlicher Gemeinschaft
DESCRIPTION:FrauenkreisBist du auf der Suche nach einem herzlichen Austausch mit gleichgesinnten Frauen? \nSuchst du Begegnungen\, die wertschätzend und freundlich sind\, frei von Bewertung und Erwartungen? \nMöchtest du gern deine weibliche Energie stärken\, dich lebendig und kraftvoll fühlen? \nEin Frauenkreis kann dich darin bestärken\, für dich selbst einzustehen und Dinge in dein Leben zu holen\, die dir gut tun und die dich stärken\, z.B. gegenseitige Unterstützung\, Vertrauen\, Halt\, Mitgefühl oder Verbundenheit. \nIn einem Frauenkreis kannst du Kraft tanken\, Erfahrungen austauschen\, dich zeigen\, so wie du bist\, ohne Druck oder Erwartungen. \nHier kannst du die berührende und stärkende Kraft weiblicher Verbundenheit spüren und erfahren. Das kann auch bedeuten\, um etwas zu bitten\, etwa den Rat oder die Aufmerksamkeit der Gruppe. In unserem Frauenkreis ist es in Ordnung\, gut für dich zu sorgen – und darauf zu vertrauen\, dass die anderen das Gleiche tun. \nDu stärkst damit deine weiblichen Qualitäten (wie z.B. das Empfangen)  und erkennst\, was dich daran hindert\, dein Potential als Frau zu entfalten. Das können z.B. Werte der Gesellschaft\, Erziehung\, Selbstkritik\, mangelnde Selbstfürsorge\, Angst\, Glaubenssätze etc. sein.. \n\n\n\n\nHier wollen wir anknüpfen und nach und nach aus der aktiven\, organisierten und durchgeplanten Yang-Energie wieder mehr ins Weibliche\, Weiche\, in die Yin-Energie kommen\, die ruhiger\, ausgleichender und empfangend ist. \n\n\n\n\nWelche Themen wollen wir berührenVor allem wollen wir durch die wohlwollende und zugewandte Gemeinschaft einander berühren\, unterstützen und in Austausch kommen. \nBei jedem Treffen werden wir uns einem Thema zuwenden\, dass sowohl durch Gespräche\, Körper-und Atemübungen\, Achtsamkeit und Yin Yoga\, z.B. mit Klangbegleitung unterstützt wird. Somit wird nicht nur dein Geist sondern auch dein Körper heilsame und wohltuende Impulse erhalten. \nThemenbereiche werden z.B. sein: \n\nGrenzen setzen und Wege dorthin\nim Körper zuhause sein – innere und äußere Schönheit\neigenen Gefühlen vertrauen\nIntuition und innere Weisheit\nauthentisch sein\nSelbstliebe und Selbstmitgefühl\nneue Kraftquellen aufspüren\nBedürfnisse erkennen und erfüllen\n\nDie Themenbereiche kannst du natürlich sehr gern auch mit gestalten und durch eigene Wünsche ergänzen. \nWas Dich erwartetFühle Dich herzlich willkommen zu einer liebevollen\, freundlichen und wertschätzenden kleinen Gemeinschaft\, die durch die Kraft der Verbundenheit gemeinsam wächst und sich entwickelt. \nDu erlebst verschiedene Möglichkeiten des Austausch auf geistiger und körperlicher Ebene\, d.h. wir praktizieren tief entspannendes Yin Yoga\, Übungen aus der TCM\, Meditationen\, Fantasiereisen\, Gespräche\, Tanz\,  herzliches Lachen u.v.m. \nGern kannst du natürlich auch hier eigene Wünsche einbringen. \nIch freue mich auf den inspirierenden Austausch und heilsame Begegnungen! \nDu hast Fragen zum Ablauf oder Inhalt des Frauenkreises? Dann melde dich gern bei mir!
URL:https://manuelakuenzel.de/event/frauenkreis-zeit-in-herzlicher-gemeinschaft-3/
CATEGORIES:Seminare
ATTACH;FMTTYPE=image/jpeg:https://manuelakuenzel.de/wp-content/uploads/IMG_3273-scaled.jpeg
ORGANIZER;CN="Manuela K%C3%BCnzel":MAILTO:info@manuelakuenzel.de
END:VEVENT
END:VCALENDAR